Workbook

Sheet Source
A6: Select Year | B6: 2021-22 | C6: 2022-23 | D6: 2023-24 | E6: 2024-25 | F6: 2025-26 | G6: 2026-27 | H6: 2027-28 | I6: 2028-29 | J6: 2029-30 | K6: 2030-31 | L6: 2031-32
A8: 2021-22 | B8: 2022-23 | C8: 2020-21
A9: 2022-23 | B9: 2023-24 | C9: 2021-22
A10: 2023-24 | B10: 2024-25 | C10: 2022-23
A11: 2024-25 | B11: 2025-26 | C11: 2023-24
A12: 2025-26 | B12: 2026-27 | C12: 2024-25
A13: 2026-27 | B13: 2027-28 | C13: 2025-26
A14: 2027-28 | B14: 2028-29 | C14: 2026-27
A15: 2028-29 | B15: 2029-30 | C15: 2027-28
A16: 2029-30 | B16: 2030-31 | C16: 2028-29
A17: 2030-31 | B17: 2031-32 | C17: 2029-30
A18: 2031-32 | B18: 2032-33 | C18: 2030-31

Sheet Instructions
D6: New Charter School Application Budget Template
D7: Instructions
D9: Template Tabs
D11: 1) Proposed School Information | E11: Enter proposed school name, contact information, and proposed year of opening
D12: 2) Student Assumptions | E12: Enter enrollment and key student demographic information assumptions
D13: 3) Pre-Opening Budget | E13: Enter budget details and assumptions for 12 month period prior to Year 1
D14: 4) Pre-Opening Cash Flow | E14: Enter cash flow details and assumptions for 12 month period prior to Year 1
D15: 5) Years 1-5 Staff Assumptions | E15: Enter staffing assumptions; assumptions will drive over tabs
D16: 6) Year 1 Budget | E16: Enter budget details and assumptions for Year 1
D17: 7) Year 1 Cash Flow | E17: Enter cash flow details and assumptions for Year 1 (July to June 12 month period)
D18: 8) Years 2 through 5 Budget | E18: Enter budget details and assumptions for Years 2 through 5
D19: 9) Summary | E19: Informational; enter a starting fund balance if applicable
D21: Template Guidance
D23: Input financial information into light yellow cells
D25: Input assumption information or notes into light green cells
D27: Provides additional information or instruction for specific tab or section of tab
D29: Cells with red comment tag include additional guidance and instruction
D31: Note: This is not a budgeting tool, but rather a standardized format for sharing key budget information for the proposed charter school. You may add additional worksheets to this workbook to otherwise supplement the information being provided on the existing worksheets.
D35: Developed in partnership with
E43: Template Version 12152022

Sheet 1) Proposed School Information
D6: =IF(E12="","ENTER SCHOOL NAME BELOW",E12) -> ENTER SCHOOL NAME BELOW
D7: New Charter School Application Budget Template
D8: Proposed School Information
D12: Proposed School Name
D13: Lead Sponsor Name
D14: Lead Sponsor E-mail Address
D15: Lead Sponsor Phone Number
D16: CMO/EMO Affiliation
D18: Proposed Authorizer
D19: Proposed Opening Grade Level(s)
D20: Proposed Final Grade Level(s)
D21: Proposed First Year of Operations | E21: 2024-25
E23: Year 1 | F23: Year 2 | G23: Year 3 | H23: Year 4 | I23: Year 5
D24: Anticipated Enrollment | E24: ='2) Student Assumptions'!E29 -> 0 | F24: ='2) Student Assumptions'!F29 -> 0 | G24: ='2) Student Assumptions'!G29 -> 0 | H24: ='2) Student Assumptions'!H29 -> 0 | I24: ='2) Student Assumptions'!I29 -> 0
E25: Note: These cells auto-populate after completing Tab 2.

Sheet 2) Student Assumptions
E3: =IF('1) Proposed School Information'!E12="","ENTER SCHOOL NAME ON PROPOSED SCHOOL INFO SHEET",'1) Proposed School Information'!E12) -> ENTER SCHOOL NAME ON PROPOSED SCHOOL INFO SHEET
E4: New Charter School Application Budget Template
E5: Student Assumptions
E8: Enrollment Assumptions
E10: Year 1 | F10: Year 2 | G10: Year 3 | H10: Year 4 | I10: Year 5
E11: =IF('1) Proposed School Information'!E21="Select Year"," ",'1) Proposed School Information'!E21) -> 2024-25 | F11: =IF(E11=" "," ",VLOOKUP(E11,Source!$A$8:$B$17,2,FALSE)) -> 2025-26 | G11: =IF(F11=" "," ",VLOOKUP(F11,Source!$A$8:$B$17,2,FALSE)) -> 2026-27 | H11: =IF(G11=" "," ",VLOOKUP(G11,Source!$A$8:$B$17,2,FALSE)) -> 2027-28 | I11: =IF(H11=" "," ",VLOOKUP(H11,Source!$A$8:$B$17,2,FALSE)) -> 2028-29
B13: Pre-Kindergarten (Informational Only) | E13: 0 | F13: 0 | G13: 0 | H13: 0 | I13: 0
B15: Kindergarten | E15: 0 | F15: 0 | G15: 0 | H15: 0 | I15: 0
B16: 1st Grade | E16: 0 | F16: 0 | G16: 0 | H16: 0 | I16: 0
B17: 2nd Grade | E17: 0 | F17: 0 | G17: 0 | H17: 0 | I17: 0
B18: 3rd Grade | E18: 0 | F18: 0 | G18: 0 | H18: 0 | I18: 0
B19: 4th Grade | E19: 0 | F19: 0 | G19: 0 | H19: 0 | I19: 0
B20: 5th Grade | E20: 0 | F20: 0 | G20: 0 | H20: 0 | I20: 0
B21: 6th Grade | E21: 0 | F21: 0 | G21: 0 | H21: 0 | I21: 0
B22: 7th Grade | E22: 0 | F22: 0 | G22: 0 | H22: 0 | I22: 0
B23: 8th Grade | E23: 0 | F23: 0 | G23: 0 | H23: 0 | I23: 0
B24: 9th Grade | E24: 0 | F24: 0 | G24: 0 | H24: 0 | I24: 0
B25: 10th Grade | E25: 0 | F25: 0 | G25: 0 | H25: 0 | I25: 0
... B27: 12th Grade | E27: 0 | F27: 0 | G27: 0 | H27: 0 | I27: 0
B29: Total Enrollment (excluding Pre-Kindergarten) | E29: =SUM(E15:E27) -> 0 | F29: =SUM(F15:F27) -> 0 | G29: =SUM(G15:G27) -> 0 | H29: =SUM(H15:H27) -> 0 | I29: =SUM(I15:I27) -> 0
B31: Change in Net Enrollment | E31: =E29-0 -> 0 | F31: =F29-E29 -> 0 | G31: =G29-F29 -> 0 | H31: =H29-G29 -> 0 | I31: =I29-H29 -> 0
E33: # of Classes By Grade
E35: Year 1 | F35: Year 2 | G35: Year 3 | H35: Year 4 | I35: Year 5
B37: Pre-Kindergarten (Informational Only) | E37: 0 | F37: 0 | G37: 0 | H37: 0 | I37: 0
B39: Kindergarten | E39: 0 | F39: 0 | G39: 0 | H39: 0 | I39: 0
B40: 1st Grade | E40: 0 | F40: 0 | G40: 0 | H40: 0 | I40: 0
B41: 2nd Grade | E41: 0 | F41: 0 | G41: 0 | H41: 0 | I41: 0
B42: 3rd Grade | E42: 0 | F42: 0 | G42: 0 | H42: 0 | I42: 0
B43: 4th Grade | E43: 0 | F43: 0 | G43: 0 | H43: 0 | I43: 0
B44: 5th Grade | E44: 0 | F44: 0 | G44: 0 | H44: 0 | I44: 0
B45: 6th Grade | E45: 0 | F45: 0 | G45: 0 | H45: 0 | I45: 0
B46: 7th Grade | E46: 0 | F46: 0 | G46: 0 | H46: 0 | I46: 0
B47: 8th Grade | E47: 0 | F47: 0 | G47: 0 | H47: 0 | I47: 0
B48: 9th Grade | E48: 0 | F48: 0 | G48: 0 | H48: 0 | I48: 0
B49: 10th Grade | E49: 0 | F49: 0 | G49: 0 | H49: 0 | I49: 0
... B51: 12th Grade | E51: 0 | F51: 0 | G51: 0 | H51: 0 | I51: 0
B53: Total # of Classes | E53: =SUM(E39:E51) -> 0 | F53: =SUM(F39:F51) -> 0 | G53: =SUM(G39:G51) -> 0 | H53: =SUM(H39:H51) -> 0 | I53: =SUM(I39:I51) -> 0
B55: Change in Net # of Classes | E55: =E53-0 -> 0 | F55: =F53-E53 -> 0 | G55: =G53-F53 -> 0 | H55: =H53-G53 -> 0 | I55: =I53-H53 -> 0
E59: Other Key Assumptions
E60: Enter Estimated Percentages
...

Sheet 3) Pre-Opening Budget
E3: =IF('1) Proposed School Information'!E12="","ENTER SCHOOL NAME ON PROPOSED SCHOOL INFO SHEET",'1) Proposed School Information'!E12) -> ENTER SCHOOL NAME ON PROPOSED SCHOOL INFO SHEET
E4: New Charter School Application Budget Template
E5: Pre-Opening Budget
C8: Revenue Assumptions
E10: Year 0
E11: =IF('1) Proposed School Information'!E21="Select Year"," ",VLOOKUP('6) Year 1 Budget'!E11,Source!A8:C17,3,FALSE)) -> 2023-24
C12: Annual Revenue Increase | E12: 0
C13: Cumultative Increase | E13: =100%+E12 -> 1
B16: Federal Revenues | C16: Rate/Assumption | E16: Amount | F16: Assumption Notes
B17: State Revenues | C17: Rate/Assumption | F17: Assumption Notes
B18: Basic Education Program | C18: 0 | E18: 0
B19: BEP Transportation Component | C19: 0 | E19: 0
B20: BEP Capital Outlay | C20: 0 | E20: 0
B21: Other | C21: 0 | E21: 0
B22: Other | C22: 0 | E22: 0
B25: Title I | C25: 0 | E25: 0
B26: Title II | C26: 0 | E26: 0
B27: Title III | C27: 0 | E27: 0
B28: NSLP | C28: 0 | E28: 0
B29: E-Rate | C29: 0 | E29: 0
B30: CSP Startup Grant | C30: 750000 | E30: 0 | F30: Approved schools must apply for this grant; funding not guaranteed
B31: Other | C31: 0 | E31: 0
B32: Other | C32: 0 | E32: 0
B34: School Activity Revenues
B35: Other | C35: 0 | E35: 0
B36: Other | C36: 0 | E36: 0
B37: Other | C37: 0 | E37: 0
B38: Other | C38: 0 | E38: 0
B39: Other | C39: 0 | E39: 0
B41: Fundraising & Philanthropy | F41: Detail any private funding sources
B42: Other | E42: 0
B43: Other | E43: 0
B44: Other | E44: 0
B45: Other | E45: 0
B46: Other | E46: 0
B48: Total Revenues | E48: =SUM(E18:E22,E24:E32,E35:E39,E42:E46) -> 0
C50: Additional Space to Provide Fundraising Details
C57: Compensation Assumptions
E59: Year 0
E60: =E11 -> 2023-24
...

Sheet 4) Pre-Opening Cash Flow
E3: =IF('1) Proposed School Information'!E12="","ENTER SCHOOL NAME ON PROPOSED SCHOOL INFO SHEET",'1) Proposed School Information'!E12) -> ENTER SCHOOL NAME ON PROPOSED SCHOOL INFO SHEET
E4: New Charter School Application Budget Template
E5: Pre-Opening Cash Flow
C8: Cash Flow Summary | E8: Cash Flow Summary
E10: Year 0 | F10: =E10 -> Year 0 | G10: =F10 -> Year 0 | H10: =G10 -> Year 0 | I10: =H10 -> Year 0 | J10: =I10 -> Year 0 | K10: =J10 -> Year 0 | L10: =K10 -> Year 0 | M10: =L10 -> Year 0 | ... S10: =R10 -> Year 0
E11: =IF('1) Proposed School Information'!E23="Select Year"," ",VLOOKUP('6) Year 1 Budget'!E11,Source!A8:C17,3,FALSE)) -> 2023-24 | F11: =E11 -> 2023-24 | G11: =F11 -> 2023-24 | H11: =G11 -> 2023-24 | I11: =H11 -> 2023-24 | J11: =I11 -> 2023-24 | K11: =J11 -> 2023-24 | L11: =K11 -> 2023-24 | M11: =L11 -> 2023-24 | ... S11: =R11 -> 2023-24
E12: Total Budget | F12: July | G12: August | H12: September | I12: October | J12: November | K12: December | L12: January | M12: February | N12: March | O12: April | P12: May | Q12: June | R12: Total | S12: AR/AP
B14: Beginning Cash | F14: =E14 -> 0 | G14: =F43 -> 0 | H14: =G43 -> 0 | I14: =H43 -> 0 | J14: =I43 -> 0 | K14: =J43 -> 0 | L14: =K43 -> 0 | M14: =L43 -> 0 | N14: =M43 -> 0 | ... Q14: =P43 -> 0
B16: Revenues
B17: State Revenues | E17: =SUM(E56:E60) -> 0 | F17: =SUM(F56:F60) -> 0 | G17: =SUM(G56:G60) -> 0 | H17: =SUM(H56:H60) -> 0 | I17: =SUM(I56:I60) -> 0 | J17: =SUM(J56:J60) -> 0 | K17: =SUM(K56:K60) -> 0 | L17: =SUM(L56:L60) -> 0 | ... S17: =SUM(S56:S60) -> 0
B18: Federal Revenues | E18: =E68 -> 0 | F18: =F68 -> 0 | G18: =G68 -> 0 | H18: =H68 -> 0 | I18: =I68 -> 0 | J18: =J68 -> 0 | K18: =K68 -> 0 | L18: =L68 -> 0 | ... S18: =S68 -> 0
B19: School Activity Revenues | E19: =SUM(E73:E77) -> 0 | F19: =SUM(F73:F77) -> 0 | G19: =SUM(G73:G77) -> 0 | H19: =SUM(H73:H77) -> 0 | I19: =SUM(I73:I77) -> 0 | J19: =SUM(J73:J77) -> 0 | K19: =SUM(K73:K77) -> 0 | L19: =SUM(L73:L77) -> 0 | ... S19: =SUM(S73:S77) -> 0
B20: Fundraising & Philanthropy | E20: =SUM(E80:E84) -> 0 | F20: =SUM(F80:F84) -> 0 | G20: =SUM(G80:G84) -> 0 | H20: =SUM(H80:H84) -> 0 | I20: =SUM(I80:I84) -> 0 | J20: =SUM(J80:J84) -> 0 | K20: =SUM(K80:K84) -> 0 | L20: =SUM(L80:L84) -> 0 | ... S20: =SUM(S80:S84) -> 0
B22: Total Revenues | E22: =SUM(E17:E20) -> 0 | F22: =SUM(F17:F20) -> 0 | G22: =SUM(G17:G20) -> 0 | H22: =SUM(H17:H20) -> 0 | I22: =SUM(I17:I20) -> 0 | J22: =SUM(J17:J20) -> 0 | K22: =SUM(K17:K20) -> 0 | L22: =SUM(L17:L20) -> 0 | ... S22: =SUM(S17:S20) -> 0
B24: Expenses
B25: Staffing | E25: =E123 -> 0 | F25: =F123 -> 0 | G25: =G123 -> 0 | H25: =H123 -> 0 | I25: =I123 -> 0 | J25: =J123 -> 0 | K25: =K123 -> 0 | L25: =L123 -> 0 | ... S25: =S123 -> 0
B26: Employer Benefits & Taxes | E26: =E143 -> 0 | F26: =F143 -> 0 | G26: =G143 -> 0 | H26: =H143 -> 0 | I26: =I143 -> 0 | J26: =J143 -> 0 | K26: =K143 -> 0 | L26: =L143 -> 0 | ... S26: =S143 -> 0
B27: Contracted Services | E27: =SUM(E154:E168) -> 0 | F27: =SUM(F154:F168) -> 0 | G27: =SUM(G154:G168) -> 0 | H27: =SUM(H154:H168) -> 0 | I27: =SUM(I154:I168) -> 0 | J27: =SUM(J154:J168) -> 0 | K27: =SUM(K154:K168) -> 0 | L27: =SUM(L154:L168) -> 0 | ... S27: =SUM(S154:S168) -> 0
B28: Supplies & Materials | E28: =SUM(E171:E185) -> 0 | F28: =SUM(F171:F185) -> 0 | G28: =SUM(G171:G185) -> 0 | H28: =SUM(H171:H185) -> 0 | I28: =SUM(I171:I185) -> 0 | J28: =SUM(J171:J185) -> 0 | K28: =SUM(K171:K185) -> 0 | L28: =SUM(L171:L185) -> 0 | ... S28: =SUM(S171:S185) -> 0
B29: Facility-Related Expenses | E29: =SUM(E188:E202) -> 0 | F29: =SUM(F188:F202) -> 0 | G29: =SUM(G188:G202) -> 0 | H29: =SUM(H188:H202) -> 0 | I29: =SUM(I188:I202) -> 0 | J29: =SUM(J188:J202) -> 0 | K29: =SUM(K188:K202) -> 0 | L29: =SUM(L188:L202) -> 0 | ... S29: =SUM(S188:S202) -> 0
B30: Other Charges | E30: =SUM(E205:E209) -> 0 | F30: =SUM(F205:F209) -> 0 | G30: =SUM(G205:G209) -> 0 | H30: =SUM(H205:H209) -> 0 | I30: =SUM(I205:I209) -> 0 | J30: =SUM(J205:J209) -> 0 | K30: =SUM(K205:K209) -> 0 | L30: =SUM(L205:L209) -> 0 | ... S30: =SUM(S205:S209) -> 0
B31: Debt Service | E31: =SUM(E212:E216) -> 0 | F31: =SUM(F212:F216) -> 0 | G31: =SUM(G212:G216) -> 0 | H31: =SUM(H212:H216) -> 0 | I31: =SUM(I212:I216) -> 0 | J31: =SUM(J212:J216) -> 0 | K31: =SUM(K212:K216) -> 0 | L31: =SUM(L212:L216) -> 0 | ... S31: =SUM(S212:S216) -> 0
B33: Total Expenses | E33: =SUM(E25:E31) -> 0 | F33: =SUM(F25:F31) -> 0 | G33: =SUM(G25:G31) -> 0 | H33: =SUM(H25:H31) -> 0 | I33: =SUM(I25:I31) -> 0 | J33: =SUM(J25:J31) -> 0 | K33: =SUM(K25:K31) -> 0 | L33: =SUM(L25:L31) -> 0 | ... S33: =SUM(S25:S31) -> 0
B35: Operating Income (Loss) | E35: =E22-E33 -> 0 | F35: =F22-F33 -> 0 | G35: =G22-G33 -> 0 | H35: =H22-H33 -> 0 | I35: =I22-I33 -> 0 | J35: =J22-J33 -> 0 | K35: =K22-K33 -> 0 | L35: =L22-L33 -> 0 | ... S35: =S22-S33 -> 0
B37: Changes in Accounts Receivable | G37: 0 | H37: 0 | I37: 0 | J37: 0 | K37: 0 | L37: 0 | M37: 0 | N37: 0 | O37: 0 | P37: 0 | Q37: 0
B38: Changes in Accounts Payable | F38: 0 | G38: 0 | H38: 0 | I38: 0 | J38: 0 | K38: 0 | L38: 0 | M38: 0 | N38: 0 | O38: 0 | P38: 0 | Q38: 0
B39: Line of Credit Proceeds | F39: 0 | G39: 0 | H39: 0 | I39: 0 | J39: 0 | K39: 0 | L39: 0 | M39: 0 | N39: 0 | O39: 0 | P39: 0 | Q39: 0
B40: Line of Credit Repayments | F40: 0 | G40: 0 | H40: 0 | I40: 0 | J40: 0 | K40: 0 | L40: 0 | M40: 0 | N40: 0 | O40: 0 | P40: 0 | Q40: 0
B41: Other Balance Sheet Activity | F41: 0 | G41: 0 | H41: 0 | I41: 0 | J41: 0 | K41: 0 | L41: 0 | M41: 0 | N41: 0 | O41: 0 | P41: 0 | Q41: 0
B43: Ending Cash | F43: =F14+F35+SUM(F37:F41) -> 0 | G43: =G14+G35+SUM(G37:G41) -> 0 | H43: =H14+H35+SUM(H37:H41) -> 0 | I43: =I14+I35+SUM(I37:I41) -> 0 | J43: =J14+J35+SUM(J37:J41) -> 0 | K43: =K14+K35+SUM(K37:K41) -> 0 | L43: =L14+L35+SUM(L37:L41) -> 0 | M43: =M14+M35+SUM(M37:M41) -> 0 | ... Q43: =Q14+Q35+SUM(Q37:Q41) -> 0
E46: Details of Cash Flow
E48: =E10 -> Year 0 | F48: =F10 -> Year 0 | G48: =G10 -> Year 0 | H48: =H10 -> Year 0 | I48: =I10 -> Year 0 | J48: =J10 -> Year 0 | K48: =K10 -> Year 0 | L48: =L10 -> Year 0 | ... S48: =S10 -> Year 0
E49: =E11 -> 2023-24 | F49: =F11 -> 2023-24 | G49: =G11 -> 2023-24 | H49: =H11 -> 2023-24 | I49: =I11 -> 2023-24 | J49: =J11 -> 2023-24 | K49: =K11 -> 2023-24 | L49: =L11 -> 2023-24 | ... S49: =S11 -> 2023-24
E50: =E12 -> Total Budget | F50: =F12 -> July | G50: =G12 -> August | H50: =H12 -> September | I50: =I12 -> October | J50: =J12 -> November | K50: =K12 -> December | L50: =L12 -> January | ... S50: =S12 -> AR/AP
B53: Revenues | E53: Revenues | T53: Assumption Notes
B55: State Revenues
B56: Basic Education Program
B57: BEP Transportation Component
B58: BEP Capital Outlay
B59: Other
...

Sheet 5) Year 1-5 Staff Assumptions
B3: =IF('1) Proposed School Information'!E12="","ENTER SCHOOL NAME ON PROPOSED SCHOOL INFO SHEET",'1) Proposed School Information'!E12) -> ENTER SCHOOL NAME ON PROPOSED SCHOOL INFO SHEET
B4: New Charter School Application Budget Template
B5: Year 1-5 Staff Assumptions
B8: FTE Assumptions
E10: Year 1 | F10: Year 2 | G10: Year 3 | H10: Year 4 | I10: Year 5
B11: Fiscal Year | E11: ='2) Student Assumptions'!E11 -> 2024-25 | F11: ='2) Student Assumptions'!F11 -> 2025-26 | G11: ='2) Student Assumptions'!G11 -> 2026-27 | H11: ='2) Student Assumptions'!H11 -> 2027-28 | I11: ='2) Student Assumptions'!I11 -> 2028-29
B12: Enrollment | E12: ='2) Student Assumptions'!E29 -> 0 | F12: ='2) Student Assumptions'!F29 -> 0 | G12: ='2) Student Assumptions'!G29 -> 0 | H12: ='2) Student Assumptions'!H29 -> 0 | I12: ='2) Student Assumptions'!I29 -> 0
B13: # of Classes | E13: ='2) Student Assumptions'!E53 -> 0 | F13: ='2) Student Assumptions'!F53 -> 0 | G13: ='2) Student Assumptions'!G53 -> 0 | H13: ='2) Student Assumptions'!H53 -> 0 | I13: ='2) Student Assumptions'!I53 -> 0
B16: Administrative Staff
B17: Principal/School Leader | E17: 0 | F17: 0 | G17: 0 | H17: 0 | I17: 0
B18: Assistant Principal | E18: 0 | F18: 0 | G18: 0 | H18: 0 | I18: 0
B19: Special Education Coordinator | E19: 0 | F19: 0 | G19: 0 | H19: 0 | I19: 0
B20: Deans, Directors | E20: 0 | F20: 0 | G20: 0 | H20: 0 | I20: 0
B21: Other (Specify in Assumptions) | E21: 0 | F21: 0 | G21: 0 | H21: 0 | I21: 0
B22: Total Administrative FTE | E22: =SUM(E17:E21) -> 0 | F22: =SUM(F17:F21) -> 0 | G22: =SUM(G17:G21) -> 0 | H22: =SUM(H17:H21) -> 0 | I22: =SUM(I17:I21) -> 0
B24: Instructional Staff
B25: Teachers | E25: 0 | F25: 0 | G25: 0 | H25: 0 | I25: 0
B26: Special Education Teachers | E26: 0 | F26: 0 | G26: 0 | H26: 0 | I26: 0
B27: Eduacational Assistants/Aides | E27: 0 | F27: 0 | G27: 0 | H27: 0 | I27: 0
B28: Elective Teachers | E28: 0 | F28: 0 | G28: 0 | H28: 0 | I28: 0
B29: Other (Specify in Assumptions) | E29: 0 | F29: 0 | G29: 0 | H29: 0 | I29: 0
B30: Total Instructional FTE | E30: =SUM(E25:E29) -> 0 | F30: =SUM(F25:F29) -> 0 | G30: =SUM(G25:G29) -> 0 | H30: =SUM(H25:H29) -> 0 | I30: =SUM(I25:I29) -> 0
B32: Non-Instructional Staff
B33: Clerical Staff | E33: 0 | F33: 0 | G33: 0 | H33: 0 | I33: 0
B34: Custodial Staff | E34: 0 | F34: 0 | G34: 0 | H34: 0 | I34: 0
B35: Operations | E35: 0 | F35: 0 | G35: 0 | H35: 0 | I35: 0
B36: Social Workers/Counseling | E36: 0 | F36: 0 | G36: 0 | H36: 0 | I36: 0
B37: Other (Specify in Assumptions) | E37: 0 | F37: 0 | G37: 0 | H37: 0 | I37: 0
B38: Total Non-Instructional FTE | E38: =SUM(E33:E37) -> 0 | F38: =SUM(F33:F37) -> 0 | G38: =SUM(G33:G37) -> 0 | H38: =SUM(H33:H37) -> 0 | I38: =SUM(I33:I37) -> 0
B40: Total FTE | E40: =E22+E30+E38 -> 0 | F40: =F22+F30+F38 -> 0 | G40: =G22+G30+G38 -> 0 | H40: =H22+H30+H38 -> 0 | I40: =I22+I30+I38 -> 0
B42: Compensation Assumptions
E44: Year 1 | F44: Year 2 | G44: Year 3 | H44: Year 4 | I44: Year 5
E45: =E11 -> 2024-25 | F45: =F11 -> 2025-26 | G45: =G11 -> 2026-27 | H45: =H11 -> 2027-28 | I45: =I11 -> 2028-29
C47: Annual Increase | E47: 0 | F47: 0 | G47: 0 | H47: 0 | I47: 0
C48: Cumultative Increase | E48: =100%+E47 -> 1 | F48: =E48*(1+F47) -> 1 | G48: =F48*(1+G47) -> 1 | H48: =G48*(1+H47) -> 1 | I48: =H48*(1+I47) -> 1
B50: Administrative Staff | C50: Base Assumption | K50: Assumption Notes
B51: =B17 -> Principal/School Leader | C51: 0 | E51: =$C51*E17*E$48 -> 0 | F51: =$C51*F17*F$48 -> 0 | G51: =$C51*G17*G$48 -> 0 | H51: =$C51*H17*H$48 -> 0 | I51: =$C51*I17*I$48 -> 0
B52: =B18 -> Assistant Principal | C52: 0 | E52: =$C52*E18*E$48 -> 0 | F52: =$C52*F18*F$48 -> 0 | G52: =$C52*G18*G$48 -> 0 | H52: =$C52*H18*H$48 -> 0 | I52: =$C52*I18*I$48 -> 0
B53: =B19 -> Special Education Coordinator | C53: 0 | E53: =$C53*E19*E$48 -> 0 | F53: =$C53*F19*F$48 -> 0 | G53: =$C53*G19*G$48 -> 0 | H53: =$C53*H19*H$48 -> 0 | I53: =$C53*I19*I$48 -> 0
B54: =B20 -> Deans, Directors | C54: 0 | E54: =$C54*E20*E$48 -> 0 | F54: =$C54*F20*F$48 -> 0 | G54: =$C54*G20*G$48 -> 0 | H54: =$C54*H20*H$48 -> 0 | I54: =$C54*I20*I$48 -> 0
...

Sheet 6) Year 1 Budget
E3: =IF('1) Proposed School Information'!E12="","ENTER SCHOOL NAME ON PROPOSED SCHOOL INFO SHEET",'1) Proposed School Information'!E12) -> ENTER SCHOOL NAME ON PROPOSED SCHOOL INFO SHEET
E4: New Charter School Application Budget Template
E5: Year 1 Budget
C8: Revenue Assumptions
E10: Year 1
E11: =IF('1) Proposed School Information'!E21="Select Year"," ",'1) Proposed School Information'!E21) -> 2024-25
C12: Annual Revenue Increase | E12: 0
C13: Cumultative Increase | E13: =100%+E12 -> 1
B17: State Revenues | C17: Rate/Assumption | F17: Assumption Notes
B18: TISA Base Rate | C18: 6860 | E18: =C18*'2) Student Assumptions'!$E$29 -> 0
B19: TISA Weights | C19: See Tracker | E19: 0
B20: TISA Direct | C20: See Tracker | E20: 0
B21: Other
B22: Other
B24: Federal Revenues | E24: 0
B25: Title I | C25: 0 | E25: =C25*'2) Student Assumptions'!$E$29 -> 0
B26: Title II | C26: 0 | E26: 0
B27: Title III | C27: 0 | E27: 0
B28: NSLP | C28: 0 | E28: 0
B29: E-Rate | C29: 0 | E29: 0
B30: CSP Startup Grant | C30: 0 | E30: =C30 -> 0
B31: Other | C31: 0 | E31: 0
B32: Other | C32: 0 | E32: 0
B34: School Activity Revenues
B35: Other | C35: 0 | E35: 0
B36: Other | C36: 0 | E36: 0
B37: Other | C37: 0 | E37: 0
B38: Other | C38: 0 | E38: 0
B39: Other | C39: 0 | E39: 0
B41: Fundraising & Philanthropy
B42: ='3) Pre-Opening Budget'!B42 -> Other | C42: 0 | E42: 0
B43: ='3) Pre-Opening Budget'!B43 -> Other | C43: 0 | E43: 0
B44: ='3) Pre-Opening Budget'!B44 -> Other | C44: 0 | E44: 0
B45: ='3) Pre-Opening Budget'!B45 -> Other | C45: 0 | E45: 0
B46: ='3) Pre-Opening Budget'!B46 -> Other | C46: 0 | E46: 0
B48: Total Revenues | E48: =SUM(E18:E22,E24:E32,E35:E39,E42:E46) -> 0
C50: Compensation
E52: Year 1
E53: =E11 -> 2024-25
B56: ='[1]5) Year 1-5 Staff Assumptions'!B50 -> Administrative Staff | C56: FTE Count | F56: Assumption Notes
...

Sheet 7) Year 1 Cash Flow
E3: =IF('1) Proposed School Information'!E12="","ENTER SCHOOL NAME ON PROPOSED SCHOOL INFO SHEET",'1) Proposed School Information'!E12) -> ENTER SCHOOL NAME ON PROPOSED SCHOOL INFO SHEET
E4: New Charter School Application Budget Template
E5: Year 1 Cash Flow
C8: Cash Flow Summary | E8: Cash Flow Summary
E10: Year 1 | F10: =E10 -> Year 1 | G10: =F10 -> Year 1 | H10: =G10 -> Year 1 | I10: =H10 -> Year 1 | J10: =I10 -> Year 1 | K10: =J10 -> Year 1 | L10: =K10 -> Year 1 | M10: =L10 -> Year 1 | ... S10: =R10 -> Year 1
E11: =IF('1) Proposed School Information'!E21="Select Year"," ",'1) Proposed School Information'!E21) -> 2024-25 | F11: =E11 -> 2024-25 | G11: =F11 -> 2024-25 | H11: =G11 -> 2024-25 | I11: =H11 -> 2024-25 | J11: =I11 -> 2024-25 | K11: =J11 -> 2024-25 | L11: =K11 -> 2024-25 | M11: =L11 -> 2024-25 | ... S11: =R11 -> 2024-25
E12: Total Budget | F12: July | G12: August | H12: September | I12: October | J12: November | K12: December | L12: January | M12: February | N12: March | O12: April | P12: May | Q12: June | R12: Total | S12: AR/AP
B14: Beginning Cash | E14: ='4) Pre-Opening Cash Flow'!Q43 -> 0 | F14: =E14 -> 0 | G14: =F43 -> 0 | H14: =G43 -> 0 | I14: =H43 -> 0 | J14: =I43 -> 0 | K14: =J43 -> 0 | L14: =K43 -> 0 | M14: =L43 -> 0 | N14: =M43 -> 0 | ... Q14: =P43 -> 0
B16: Revenues
B17: State Revenues | E17: =SUM(E56:E60) -> 0 | F17: =SUM(F56:F60) -> 0 | G17: =SUM(G56:G60) -> 0 | H17: =SUM(H56:H60) -> 0 | I17: =SUM(I56:I60) -> 0 | J17: =SUM(J56:J60) -> 0 | K17: =SUM(K56:K60) -> 0 | L17: =SUM(L56:L60) -> 0 | ... S17: =SUM(S56:S60) -> 0
B18: Federal Revenues | E18: =SUM(E62:E70) -> 0 | F18: =SUM(F62:F70) -> 0 | G18: =SUM(G62:G70) -> 0 | H18: =SUM(H62:H70) -> 0 | I18: =SUM(I62:I70) -> 0 | J18: =SUM(J62:J70) -> 0 | K18: =SUM(K62:K70) -> 0 | L18: =SUM(L62:L70) -> 0 | ... S18: =SUM(S62:S70) -> 0
B19: School Activity Revenues | E19: =SUM(E73:E77) -> 0 | F19: =SUM(F73:F77) -> 0 | G19: =SUM(G73:G77) -> 0 | H19: =SUM(H73:H77) -> 0 | I19: =SUM(I73:I77) -> 0 | J19: =SUM(J73:J77) -> 0 | K19: =SUM(K73:K77) -> 0 | L19: =SUM(L73:L77) -> 0 | ... S19: =SUM(S73:S77) -> 0
B20: Fundraising & Philanthropy | E20: =SUM(E80:E84) -> 0 | F20: =SUM(F80:F84) -> 0 | G20: =SUM(G80:G84) -> 0 | H20: =SUM(H80:H84) -> 0 | I20: =SUM(I80:I84) -> 0 | J20: =SUM(J80:J84) -> 0 | K20: =SUM(K80:K84) -> 0 | L20: =SUM(L80:L84) -> 0 | ... S20: =SUM(S80:S84) -> 0
B22: Total Revenues | E22: =SUM(E17:E20) -> 0 | F22: =SUM(F17:F20) -> 0 | G22: =SUM(G17:G20) -> 0 | H22: =SUM(H17:H20) -> 0 | I22: =SUM(I17:I20) -> 0 | J22: =SUM(J17:J20) -> 0 | K22: =SUM(K17:K20) -> 0 | L22: =SUM(L17:L20) -> 0 | ... S22: =SUM(S17:S20) -> 0
B24: Expenses
B25: Staffing | E25: =E123 -> 0 | F25: =F123 -> 0 | G25: =G123 -> 0 | H25: =H123 -> 0 | I25: =I123 -> 0 | J25: =J123 -> 0 | K25: =K123 -> 0 | L25: =L123 -> 0 | ... S25: =S123 -> 0
B26: Employer Benefits & Taxes | E26: =E148 -> 0 | F26: =F148 -> 0 | G26: =G148 -> 0 | H26: =H148 -> 0 | I26: =I148 -> 0 | J26: =J148 -> 0 | K26: =K148 -> 0 | L26: =L148 -> 0 | ... S26: =S148 -> 0
B27: Contracted Services | E27: =SUM(E159:E173) -> 0 | F27: =SUM(F159:F173) -> 0 | G27: =SUM(G159:G173) -> 0 | H27: =SUM(H159:H173) -> 0 | I27: =SUM(I159:I173) -> 0 | J27: =SUM(J159:J173) -> 0 | K27: =SUM(K159:K173) -> 0 | L27: =SUM(L159:L173) -> 0 | ... S27: =SUM(S159:S173) -> 0
B28: Supplies & Materials | E28: =SUM(E176:E190) -> 0 | F28: =SUM(F176:F190) -> 0 | G28: =SUM(G176:G190) -> 0 | H28: =SUM(H176:H190) -> 0 | I28: =SUM(I176:I190) -> 0 | J28: =SUM(J176:J190) -> 0 | K28: =SUM(K176:K190) -> 0 | L28: =SUM(L176:L190) -> 0 | ... S28: =SUM(S176:S190) -> 0
B29: Facility-Related Expenses | E29: =SUM(E193:E207) -> 0 | F29: =SUM(F193:F207) -> 0 | G29: =SUM(G193:G207) -> 0 | H29: =SUM(H193:H207) -> 0 | I29: =SUM(I193:I207) -> 0 | J29: =SUM(J193:J207) -> 0 | K29: =SUM(K193:K207) -> 0 | L29: =SUM(L193:L207) -> 0 | ... S29: =SUM(S193:S207) -> 0
B30: Other Charges | E30: =SUM(E210:E214) -> 0 | F30: =SUM(F210:F214) -> 0 | G30: =SUM(G210:G214) -> 0 | H30: =SUM(H210:H214) -> 0 | I30: =SUM(I210:I214) -> 0 | J30: =SUM(J210:J214) -> 0 | K30: =SUM(K210:K214) -> 0 | L30: =SUM(L210:L214) -> 0 | ... S30: =SUM(S210:S214) -> 0
B31: Debt Service | E31: =SUM(E217:E221) -> 0 | F31: =SUM(F217:F221) -> 0 | G31: =SUM(G217:G221) -> 0 | H31: =SUM(H217:H221) -> 0 | I31: =SUM(I217:I221) -> 0 | J31: =SUM(J217:J221) -> 0 | K31: =SUM(K217:K221) -> 0 | L31: =SUM(L217:L221) -> 0 | ... S31: =SUM(S217:S221) -> 0
B33: Total Expenses | E33: =SUM(E25:E31) -> 0 | F33: =SUM(F25:F31) -> 0 | G33: =SUM(G25:G31) -> 0 | H33: =SUM(H25:H31) -> 0 | I33: =SUM(I25:I31) -> 0 | J33: =SUM(J25:J31) -> 0 | K33: =SUM(K25:K31) -> 0 | L33: =SUM(L25:L31) -> 0 | ... S33: =SUM(S25:S31) -> 0
B35: Operating Income (Loss) | E35: =E22-E33 -> 0 | F35: =F22-F33 -> 0 | G35: =G22-G33 -> 0 | H35: =H22-H33 -> 0 | I35: =I22-I33 -> 0 | J35: =J22-J33 -> 0 | K35: =K22-K33 -> 0 | L35: =L22-L33 -> 0 | ... S35: =S22-S33 -> 0
B37: Changes in Accounts Receivable | F37: 0 | G37: 0 | H37: 0 | I37: 0 | J37: 0 | K37: 0 | L37: 0 | M37: 0 | N37: 0 | O37: 0 | P37: 0 | Q37: 0
B38: Changes in Accounts Payable | F38: 0 | G38: 0 | H38: 0 | I38: 0 | J38: 0 | K38: 0 | L38: 0 | M38: 0 | N38: 0 | O38: 0 | P38: 0 | Q38: 0
B39: Line of Credit Proceeds | F39: 0 | G39: 0 | H39: 0 | I39: 0 | J39: 0 | K39: 0 | L39: 0 | M39: 0 | N39: 0 | O39: 0 | P39: 0 | Q39: 0
B40: Line of Credit Repayments | F40: 0 | G40: 0 | H40: 0 | I40: 0 | J40: 0 | K40: 0 | L40: 0 | M40: 0 | N40: 0 | O40: 0 | P40: 0 | Q40: 0
B41: Other Balance Sheet Activity | F41: 0 | G41: 0 | H41: 0 | I41: 0 | J41: 0 | K41: 0 | L41: 0 | M41: 0 | N41: 0 | O41: 0 | P41: 0 | Q41: 0
B43: Ending Cash | F43: =F14+F35+SUM(F37:F41) -> 0 | G43: =G14+G35+SUM(G37:G41) -> 0 | H43: =H14+H35+SUM(H37:H41) -> 0 | I43: =I14+I35+SUM(I37:I41) -> 0 | J43: =J14+J35+SUM(J37:J41) -> 0 | K43: =K14+K35+SUM(K37:K41) -> 0 | L43: =L14+L35+SUM(L37:L41) -> 0 | M43: =M14+M35+SUM(M37:M41) -> 0 | ... Q43: =Q14+Q35+SUM(Q37:Q41) -> 0
E46: Details of Cash Flow
E48: =E10 -> Year 1 | F48: =F10 -> Year 1 | G48: =G10 -> Year 1 | H48: =H10 -> Year 1 | I48: =I10 -> Year 1 | J48: =J10 -> Year 1 | K48: =K10 -> Year 1 | L48: =L10 -> Year 1 | ... S48: =S10 -> Year 1
E49: =E11 -> 2024-25 | F49: =F11 -> 2024-25 | G49: =G11 -> 2024-25 | H49: =H11 -> 2024-25 | I49: =I11 -> 2024-25 | J49: =J11 -> 2024-25 | K49: =K11 -> 2024-25 | L49: =L11 -> 2024-25 | ... S49: =S11 -> 2024-25
E50: =E12 -> Total Budget | F50: =F12 -> July | G50: =G12 -> August | H50: =H12 -> September | I50: =I12 -> October | J50: =J12 -> November | K50: =K12 -> December | L50: =L12 -> January | ... S50: =S12 -> AR/AP
B53: Revenues | E53: Revenues | T53: Assumption Notes
B55: State Revenues | T55: Assumption Notes
B56: ='6) Year 1 Budget'!B18 -> TISA Base Rate | E56: ='6) Year 1 Budget'!E18 -> 0 | F56: =$E56/12 -> 0 | G56: =$E56/12 -> 0 | H56: =$E56/12 -> 0 | I56: =$E56/12 -> 0 | J56: =$E56/12 -> 0 | K56: =$E56/12 -> 0 | L56: =$E56/12 -> 0 | M56: =$E56/12 -> 0 | ... Q56: =$E56/12 -> 0 | R56: =SUM(F56:Q56) -> 0 | S56: =E56-R56 -> 0 | T56: TISA base rate for SY2023-24 is $6860.
B57: ='6) Year 1 Budget'!B19 -> TISA Weights | E57: ='6) Year 1 Budget'!E19 -> 0 | F57: =$E57/12 -> 0 | G57: =$E57/12 -> 0 | H57: =$E57/12 -> 0 | I57: =$E57/12 -> 0 | J57: =$E57/12 -> 0 | K57: =$E57/12 -> 0 | L57: =$E57/12 -> 0 | M57: =$E57/12 -> 0 | ... Q57: =$E57/12 -> 0 | R57: =SUM(F57:Q57) -> 0 | S57: =E57-R57 -> 0
B58: ='6) Year 1 Budget'!B20 -> TISA Direct | E58: ='6) Year 1 Budget'!E20 -> 0 | F58: =$E58/12 -> 0 | G58: =$E58/12 -> 0 | H58: =$E58/12 -> 0 | I58: =$E58/12 -> 0 | J58: =$E58/12 -> 0 | K58: =$E58/12 -> 0 | L58: =$E58/12 -> 0 | M58: =$E58/12 -> 0 | ... Q58: =$E58/12 -> 0 | R58: =SUM(F58:Q58) -> 0 | S58: =E58-R58 -> 0
B59: ='6) Year 1 Budget'!B21 -> Other | E59: ='6) Year 1 Budget'!E21 -> 0 | F59: =$E59/12 -> 0 | G59: =$E59/12 -> 0 | H59: =$E59/12 -> 0 | I59: =$E59/12 -> 0 | J59: =$E59/12 -> 0 | K59: =$E59/12 -> 0 | L59: =$E59/12 -> 0 | M59: =$E59/12 -> 0 | ... Q59: =$E59/12 -> 0 | R59: =SUM(F59:Q59) -> 0 | S59: =E59-R59 -> 0 | T59: TISA Weights based on TISA Calculator.
...

Sheet 8) Year 2 through 5 Budget
B3: =IF('1) Proposed School Information'!E12="","ENTER SCHOOL NAME ON PROPOSED SCHOOL INFO SHEET",'1) Proposed School Information'!E12) -> ENTER SCHOOL NAME ON PROPOSED SCHOOL INFO SHEET
B4: New Charter School Application Budget Template
B5: Year 2 Through 5 Budget
B8: Revenue Assumptions
E10: Year 1 | F10: Year 2 | G10: Year 3 | H10: Year 4 | I10: Year 5
E11: =IF('1) Proposed School Information'!E21="Select Year"," ",'1) Proposed School Information'!E21) -> 2024-25 | F11: =IF(E11=" "," ",VLOOKUP(E11,Source!$A$8:$B$17,2,FALSE)) -> 2025-26 | G11: =IF(F11=" "," ",VLOOKUP(F11,Source!$A$8:$B$17,2,FALSE)) -> 2026-27 | H11: =IF(G11=" "," ",VLOOKUP(G11,Source!$A$8:$B$17,2,FALSE)) -> 2027-28 | I11: =IF(H11=" "," ",VLOOKUP(H11,Source!$A$8:$B$17,2,FALSE)) -> 2028-29
C12: Annual Revenue Increase | E12: ='6) Year 1 Budget'!E12 -> 0 | F12: 0 | G12: 0 | H12: 0 | I12: 0
C13: Cumultative Increase | E13: ='6) Year 1 Budget'!E13 -> 1 | F13: =E13*(1+F12) -> 1 | G13: =F13*(1+G12) -> 1 | H13: =G13*(1+H12) -> 1 | I13: =H13*(1+I12) -> 1
B17: State Revenues | C17: Assumption | J17: Assumption Notes
B18: TISA Base Rate | C18: 6860 | E18: ='6) Year 1 Budget'!E18 -> 0 | F18: =C18*'2) Student Assumptions'!F29 -> 0 | G18: =C18*'2) Student Assumptions'!G29 -> 0 | H18: =C18*'2) Student Assumptions'!H29 -> 0 | I18: =C18*'2) Student Assumptions'!I29 -> 0
B19: TISA Weights | C19: See Tracker | E19: ='6) Year 1 Budget'!E19 -> 0 | F19: 0 | G19: 0 | H19: 0 | I19: 0
B20: TISA Direct | C20: See Tracker | E20: ='6) Year 1 Budget'!E20 -> 0 | F20: 0 | G20: 0 | H20: 0 | I20: 0
B21: ='6) Year 1 Budget'!B21 -> Other | E21: ='6) Year 1 Budget'!E21 -> 0 | F21: 0 | G21: 0 | H21: 0 | I21: 0
B22: ='6) Year 1 Budget'!B22 -> Other | E22: ='6) Year 1 Budget'!E22 -> 0 | F22: 0 | G22: 0 | H22: 0 | I22: 0
B24: Federal Revenues
B25: Title I | C25: 0 | E25: ='6) Year 1 Budget'!E25 -> 0 | F25: =$E25*(1+F$12) -> 0 | G25: =$E25*(1+G$12) -> 0 | H25: =$E25*(1+H$12) -> 0 | I25: =$E25*(1+I$12) -> 0
B26: Title II | C26: 0 | E26: ='6) Year 1 Budget'!E26 -> 0 | F26: =$E26*(1+F$12) -> 0 | G26: =$E26*(1+G$12) -> 0 | H26: =$E26*(1+H$12) -> 0 | I26: =$E26*(1+I$12) -> 0
B27: Title III | C27: 0 | E27: ='6) Year 1 Budget'!E27 -> 0 | F27: =$E27*(1+F$12) -> 0 | G27: =$E27*(1+G$12) -> 0 | H27: =$E27*(1+H$12) -> 0 | I27: =$E27*(1+I$12) -> 0
B28: NSLP | C28: 0 | E28: ='6) Year 1 Budget'!E28 -> 0 | F28: =$E28*(1+F$12) -> 0 | G28: =$E28*(1+G$12) -> 0 | H28: =$E28*(1+H$12) -> 0 | I28: =$E28*(1+I$12) -> 0
B29: E-Rate | C29: 0 | E29: ='6) Year 1 Budget'!E29 -> 0 | F29: =$E29*(1+F$12) -> 0 | G29: =$E29*(1+G$12) -> 0 | H29: =$E29*(1+H$12) -> 0 | I29: =$E29*(1+I$12) -> 0
B30: CSP Startup Grant | C30: 0 | E30: ='6) Year 1 Budget'!E30 -> 0 | F30: =$E30*(1+F$12) -> 0 | G30: =$E30*(1+G$12) -> 0 | H30: =$E30*(1+H$12) -> 0 | I30: =$E30*(1+I$12) -> 0
B31: ='6) Year 1 Budget'!B31 -> Other | C31: 0 | E31: ='6) Year 1 Budget'!E31 -> 0 | F31: =$E31*(1+F$12) -> 0 | G31: =$E31*(1+G$12) -> 0 | H31: =$E31*(1+H$12) -> 0 | I31: =$E31*(1+I$12) -> 0
B32: ='6) Year 1 Budget'!B32 -> Other | C32: 0 | E32: ='6) Year 1 Budget'!E32 -> 0 | F32: =$E32*(1+F$12) -> 0 | G32: =$E32*(1+G$12) -> 0 | H32: =$E32*(1+H$12) -> 0 | I32: =$E32*(1+I$12) -> 0
B34: School Activity Revenues
B35: ='6) Year 1 Budget'!B35 -> Other | C35: 0 | E35: ='6) Year 1 Budget'!E35 -> 0 | F35: =$C35*(1+F$12) -> 0 | G35: =$C35*(1+G$12) -> 0 | H35: =$C35*(1+H$12) -> 0 | I35: =$C35*(1+I$12) -> 0
B36: ='6) Year 1 Budget'!B36 -> Other | C36: 0 | E36: ='6) Year 1 Budget'!E36 -> 0 | F36: =$C36*(1+F$12) -> 0 | G36: =$C36*(1+G$12) -> 0 | H36: =$C36*(1+H$12) -> 0 | I36: =$C36*(1+I$12) -> 0
B37: ='6) Year 1 Budget'!B37 -> Other | C37: 0 | E37: ='6) Year 1 Budget'!E37 -> 0 | F37: =$C37*(1+F$12) -> 0 | G37: =$C37*(1+G$12) -> 0 | H37: =$C37*(1+H$12) -> 0 | I37: =$C37*(1+I$12) -> 0
B38: ='6) Year 1 Budget'!B38 -> Other | C38: 0 | E38: ='6) Year 1 Budget'!E38 -> 0 | F38: =$C38*(1+F$12) -> 0 | G38: =$C38*(1+G$12) -> 0 | H38: =$C38*(1+H$12) -> 0 | I38: =$C38*(1+I$12) -> 0
B39: ='6) Year 1 Budget'!B39 -> Other | C39: 0 | E39: ='6) Year 1 Budget'!E39 -> 0 | F39: =$C39*(1+F$12) -> 0 | G39: =$C39*(1+G$12) -> 0 | H39: =$C39*(1+H$12) -> 0 | I39: =$C39*(1+I$12) -> 0
E40: ='6) Year 1 Budget'!E40 -> 0
B41: Fundraising & Philanthropy | E41: ='6) Year 1 Budget'!E41 -> 0
B42: ='6) Year 1 Budget'!B42 -> Other | C42: 0 | E42: ='6) Year 1 Budget'!E42 -> 0 | F42: 0 | G42: 0 | H42: 0 | I42: 0
B43: ='6) Year 1 Budget'!B43 -> Other | C43: 0 | E43: ='6) Year 1 Budget'!E43 -> 0 | F43: 0 | G43: 0 | H43: 0 | I43: 0
B44: ='6) Year 1 Budget'!B44 -> Other | C44: 0 | E44: ='6) Year 1 Budget'!E44 -> 0 | F44: 0 | G44: 0 | H44: 0 | I44: 0
B45: ='6) Year 1 Budget'!B45 -> Other | C45: 0 | E45: ='6) Year 1 Budget'!E45 -> 0 | F45: 0 | G45: 0 | H45: 0 | I45: 0
B46: ='6) Year 1 Budget'!B46 -> Other | C46: 0 | E46: ='6) Year 1 Budget'!E46 -> 0 | F46: 0 | G46: 0 | H46: 0 | I46: 0
B48: Total Revenues | E48: =SUM(E18:E22,E25:E32,E35:E39,E42:E46) -> 0 | F48: =SUM(F18:F22,F25:F32,F35:F39,F42:F46) -> 0 | G48: =SUM(G18:G22,G25:G32,G35:G39,G42:G46) -> 0 | H48: =SUM(H18:H22,H25:H32,H35:H39,H42:H46) -> 0 | I48: =SUM(I18:I22,I25:I32,I35:I39,I42:I46) -> 0
B50: Compensation
E52: Year 1 | F52: Year 2 | G52: Year 3 | H52: Year 4 | I52: Year 5
E53: =E11 -> 2024-25 | F53: =F11 -> 2025-26 | G53: =G11 -> 2026-27 | H53: =H11 -> 2027-28 | I53: =I11 -> 2028-29
...

Sheet 9) Summary
B3: =IF('1) Proposed School Information'!E12="","ENTER SCHOOL NAME ON PROPOSED SCHOOL INFO SHEET",'1) Proposed School Information'!E12) -> ENTER SCHOOL NAME ON PROPOSED SCHOOL INFO SHEET
B4: New Charter School Application Budget Template
B5: Year 0 & Years 1 through 5 Summary
B8: Revenue Assumptions
D10: Year 0 | E10: Year 1 | F10: Year 2 | G10: Year 3 | H10: Year 4 | I10: Year 5
D11: =IF(ISNA( '3) Pre-Opening Budget'!E11), "", '3) Pre-Opening Budget'!E11) -> 2023-24 | E11: =IF('1) Proposed School Information'!E21="Select Year"," ",'1) Proposed School Information'!E21) -> 2024-25 | F11: =IF(E11=" "," ",VLOOKUP(E11,Source!$A$8:$B$17,2,FALSE)) -> 2025-26 | G11: =IF(F11=" "," ",VLOOKUP(F11,Source!$A$8:$B$17,2,FALSE)) -> 2026-27 | H11: =IF(G11=" "," ",VLOOKUP(G11,Source!$A$8:$B$17,2,FALSE)) -> 2027-28 | I11: =IF(H11=" "," ",VLOOKUP(H11,Source!$A$8:$B$17,2,FALSE)) -> 2028-29
C13: Starting Fund Balance | D13: 0 | E13: =D32 -> 0 | F13: =E32 -> 0 | G13: =F32 -> 0 | H13: =G32 -> 0 | I13: =H32 -> 0
C15: State Revenues | D15: 0 | E15: =SUM('8) Year 2 through 5 Budget'!E18:E22) -> 0 | F15: =SUM('8) Year 2 through 5 Budget'!F18:F22) -> 0 | G15: =SUM('8) Year 2 through 5 Budget'!G18:G22) -> 0 | H15: =SUM('8) Year 2 through 5 Budget'!H18:H22) -> 0 | I15: =SUM('8) Year 2 through 5 Budget'!I18:I22) -> 0
C16: Federal Revenues | D16: ='3) Pre-Opening Budget'!E30 -> 0 | E16: =SUM('8) Year 2 through 5 Budget'!E25:E32) -> 0 | F16: =SUM('8) Year 2 through 5 Budget'!F25:F32) -> 0 | G16: =SUM('8) Year 2 through 5 Budget'!G25:G32) -> 0 | H16: =SUM('8) Year 2 through 5 Budget'!H25:H32) -> 0 | I16: =SUM('8) Year 2 through 5 Budget'!I25:I32) -> 0
C17: School Activity Revenues | D17: 0 | E17: =SUM('8) Year 2 through 5 Budget'!E35:E39) -> 0 | F17: =SUM('8) Year 2 through 5 Budget'!F35:F39) -> 0 | G17: =SUM('8) Year 2 through 5 Budget'!G35:G39) -> 0 | H17: =SUM('8) Year 2 through 5 Budget'!H35:H39) -> 0 | I17: =SUM('8) Year 2 through 5 Budget'!I35:I39) -> 0
C18: Fundraising & Philanthropy | D18: =SUM('3) Pre-Opening Budget'!E42:E46) -> 0 | E18: =SUM('8) Year 2 through 5 Budget'!E42:E46) -> 0 | F18: =SUM('8) Year 2 through 5 Budget'!F42:F46) -> 0 | G18: =SUM('8) Year 2 through 5 Budget'!G42:G46) -> 0 | H18: =SUM('8) Year 2 through 5 Budget'!H42:H46) -> 0 | I18: =SUM('8) Year 2 through 5 Budget'!I42:I46) -> 0
C19: Total Revenues | D19: =SUM(D15:D18) -> 0 | E19: =SUM(E15:E18) -> 0 | F19: =SUM(F15:F18) -> 0 | G19: =SUM(G15:G18) -> 0 | H19: =SUM(H15:H18) -> 0 | I19: =SUM(I15:I18) -> 0
C21: Staffing | D21: ='3) Pre-Opening Budget'!E92 -> 0 | E21: ='8) Year 2 through 5 Budget'!E85 -> 0 | F21: ='8) Year 2 through 5 Budget'!F85 -> 0 | G21: ='8) Year 2 through 5 Budget'!G85 -> 0 | H21: ='8) Year 2 through 5 Budget'!H85 -> 0 | I21: ='8) Year 2 through 5 Budget'!I85 -> 0
C22: Employer Benefits & Taxes | D22: ='3) Pre-Opening Budget'!E112 -> 0 | E22: ='8) Year 2 through 5 Budget'!E110 -> 0 | F22: ='8) Year 2 through 5 Budget'!F110 -> 0 | G22: ='8) Year 2 through 5 Budget'!G110 -> 0 | H22: ='8) Year 2 through 5 Budget'!H110 -> 0 | I22: ='8) Year 2 through 5 Budget'!I110 -> 0
C23: Contracted Services | D23: =SUM('3) Pre-Opening Budget'!E123:E137) -> 0 | E23: =SUM('8) Year 2 through 5 Budget'!E121:E135) -> 0 | F23: =SUM('8) Year 2 through 5 Budget'!F121:F135) -> 0 | G23: =SUM('8) Year 2 through 5 Budget'!G121:G135) -> 0 | H23: =SUM('8) Year 2 through 5 Budget'!H121:H135) -> 0 | I23: =SUM('8) Year 2 through 5 Budget'!I121:I135) -> 0
C24: Supplies & Materials | D24: =SUM('3) Pre-Opening Budget'!E140:E154) -> 0 | E24: =SUM('8) Year 2 through 5 Budget'!E138:E152) -> 0 | F24: =SUM('8) Year 2 through 5 Budget'!F138:F152) -> 0 | G24: =SUM('8) Year 2 through 5 Budget'!G138:G152) -> 0 | H24: =SUM('8) Year 2 through 5 Budget'!H138:H152) -> 0 | I24: =SUM('8) Year 2 through 5 Budget'!I138:I152) -> 0
C25: Facility-Related Expenses | D25: =SUM('3) Pre-Opening Budget'!E157:E171) -> 0 | E25: =SUM('8) Year 2 through 5 Budget'!E155:E169) -> 0 | F25: =SUM('8) Year 2 through 5 Budget'!F155:F169) -> 0 | G25: =SUM('8) Year 2 through 5 Budget'!G155:G169) -> 0 | H25: =SUM('8) Year 2 through 5 Budget'!H155:H169) -> 0 | I25: =SUM('8) Year 2 through 5 Budget'!I155:I169) -> 0
C26: Other Charges | D26: =SUM('3) Pre-Opening Budget'!E174:E178) -> 0 | E26: =SUM('8) Year 2 through 5 Budget'!E172:E176) -> 0 | F26: =SUM('8) Year 2 through 5 Budget'!F172:F176) -> 0 | G26: =SUM('8) Year 2 through 5 Budget'!G172:G176) -> 0 | H26: =SUM('8) Year 2 through 5 Budget'!H172:H176) -> 0 | I26: =SUM('8) Year 2 through 5 Budget'!I172:I176) -> 0
C27: Debt Service | D27: =SUM('3) Pre-Opening Budget'!E181:E185) -> 0 | E27: =SUM('8) Year 2 through 5 Budget'!E179:E183) -> 0 | F27: =SUM('8) Year 2 through 5 Budget'!F179:F183) -> 0 | G27: =SUM('8) Year 2 through 5 Budget'!G179:G183) -> 0 | H27: =SUM('8) Year 2 through 5 Budget'!H179:H183) -> 0 | I27: =SUM('8) Year 2 through 5 Budget'!I179:I183) -> 0
C28: Total Expenses | D28: =SUM(D21:D27) -> 0 | E28: =SUM(E21:E27) -> 0 | F28: =SUM(F21:F27) -> 0 | G28: =SUM(G21:G27) -> 0 | H28: =SUM(H21:H27) -> 0 | I28: =SUM(I21:I27) -> 0
C30: Net Income | D30: =D19-D28 -> 0 | E30: =E19-E28 -> 0 | F30: =F19-F28 -> 0 | G30: =G19-G28 -> 0 | H30: =H19-H28 -> 0 | I30: =I19-I28 -> 0
C32: Ending Fund Balance | D32: =D13+D30 -> 0 | E32: =E13+E30 -> 0 | F32: =F13+F30 -> 0 | G32: =G13+G30 -> 0 | H32: =H13+H30 -> 0 | I32: =I13+I30 -> 0
